BEGIN:VCALENDAR
PRODID:-//AT Content Types//AT Event//EN
VERSION:1.0
BEGIN:VEVENT
DTSTART:20220804T183000Z
DTEND:20220804T183000Z
DCREATED:20220615T183902Z
UID:ATEvent-3908b5b09f5348e0b9a0a87a4d92d2fc
SEQUENCE:0
LAST-MODIFIED:20220615T194657Z
SUMMARY:♦ Concert de l'ensemble de musique de chambre Galitzine
DESCRIPTION:Les amis de l'orgue de l'église Saint-Bénigne
LOCATION:Église Saint-Bénigne - Pontarlier
PRIORITY:3
TRANSP:0
END:VEVENT
END:VCALENDAR
