BEGIN:VCALENDAR
PRODID:-//AT Content Types//AT Event//EN
VERSION:2.0
METHOD:PUBLISH
BEGIN:VEVENT
DTSTAMP:20260421T153938Z
CREATED:20220604T093403Z
UID:ATEvent-a68f03aa122e46e3ac4e1ed4bb483613
LAST-MODIFIED:20220611T155651Z
SUMMARY:♦  Nuit des veilleurs 2022
DTSTART:20220625T180000Z
DTEND:20220625T180000Z
DESCRIPTION:Dans la nuit du 25 au 26 juin\, ensemble\, portons la flam
 me de l'espérance en soutenant les victimes de la torture.
LOCATION:Église mennonite\, place Schweitzer à Pontarlier
URL:https://www.diocese-besancon.fr/diocese/doyennes-et-paroisses/d05-haut-doubs-forestier/actualites/nuit-des-veilleurs-2022/
CLASS:PUBLIC
END:VEVENT
END:VCALENDAR
