BEGIN:VCALENDAR
PRODID:-//AT Content Types//AT Event//EN
VERSION:1.0
BEGIN:VEVENT
DTSTART:20220313T140000Z
DTEND:20220319T110000Z
DCREATED:20211117T111057Z
UID:ATEvent-e82537ca38494777bb70d92a594e40d2
SEQUENCE:0
LAST-MODIFIED:20220319T163509Z
SUMMARY:♦ Semaine de prière accompagnée : retraite dans la vie à l'écoute de la Parole de Dieu
LOCATION:Salles de l'église saint Pierre à Pontarlier
PRIORITY:3
TRANSP:0
END:VEVENT
END:VCALENDAR
