BEGIN:VCALENDAR
PRODID:-//AT Content Types//AT Event//EN
VERSION:2.0
METHOD:PUBLISH
BEGIN:VEVENT
DTSTAMP:20260421T184009Z
CREATED:20210424T121545Z
UID:ATEvent-6b78f6a8224841dd8cec10c9c1061b9f
LAST-MODIFIED:20220128T191514Z
SUMMARY:Webinaire sur Charles de Foucauld
DTSTART:20210427T070000Z
DTEND:20210428T150000Z
LOCATION:En ligne
CONTACT:SNRM - Service National pour les relations avec les musulmans\, 01 72 36 68 95\, snrm@cef.fr
URL:https://charlesdefoucauld2021-visio.venio.fr/fr
CLASS:PUBLIC
END:VEVENT
END:VCALENDAR
