BEGIN:VCALENDAR
PRODID:-//AT Content Types//AT Event//EN
VERSION:2.0
METHOD:PUBLISH
BEGIN:VEVENT
DTSTAMP:20260422T195642Z
CREATED:20210220T100528Z
UID:ATEvent-7d271ac4ed3741f9a2d5cc1edddc6a73
LAST-MODIFIED:20220128T191513Z
SUMMARY:En visioconférence : Que sont devenus les apôtres de Jésus  ?
DTSTART:20210302T173000Z
DTEND:20210302T190000Z
DESCRIPTION:Par 'Le Monde de la Bible'\, la revue d'histoire\, art et 
 archéologie sur l'héritage biblique dans les religions
LOCATION:En ligne
CONTACT:Le Monde de la Bible
URL:https://www.mondedelabible.com/les-visioconferences-du-monde-de-la-bible/
CLASS:PUBLIC
END:VEVENT
END:VCALENDAR
