BEGIN:VCALENDAR
PRODID:-//AT Content Types//AT Event//EN
VERSION:2.0
METHOD:PUBLISH
BEGIN:VEVENT
DTSTAMP:20260421T111208Z
CREATED:20210825T160046Z
UID:ATEvent-cdde771aacd147cabd7566f3cd7819ee
LAST-MODIFIED:20220128T191516Z
SUMMARY:Visioconférence : Peurs bibliques\, théologiques et philosophiques
DTSTART:20210916T163000Z
DTEND:20210916T180000Z
LOCATION:En ligne
CLASS:PUBLIC
END:VEVENT
END:VCALENDAR
