BEGIN:VCALENDAR
PRODID:-//AT Content Types//AT Event//EN
VERSION:1.0
BEGIN:VEVENT
DTSTART:20210601T160000Z
DTEND:20210601T170000Z
DCREATED:20210528T183505Z
UID:ATEvent-6da140d429c647329e4940c144eff8f3
SEQUENCE:0
LAST-MODIFIED:20220128T191514Z
SUMMARY:Visioconférence : Évangéliser et transmettre la foi aujourd’hui
LOCATION:En ligne
PRIORITY:3
TRANSP:0
END:VEVENT
END:VCALENDAR
