BEGIN:VCALENDAR
PRODID:-//AT Content Types//AT Event//EN
VERSION:2.0
METHOD:PUBLISH
BEGIN:VEVENT
DTSTAMP:20260421T090408Z
CREATED:20210522T100418Z
UID:ATEvent-082a0c56ef1b4668871834bd7b235896
LAST-MODIFIED:20220128T191514Z
SUMMARY:Veillée de prière mondiale pour lancer l’année ignatienne
DTSTART:20210523T180000Z
DTEND:20210523T180000Z
LOCATION:En ligne en direct
URL:https://www.youtube.com/watch?v=guUD41b2UZs
CLASS:PUBLIC
END:VEVENT
END:VCALENDAR
