BEGIN:VCALENDAR
PRODID:-//AT Content Types//AT Event//EN
VERSION:2.0
METHOD:PUBLISH
BEGIN:VEVENT
DTSTAMP:20260422T100811Z
CREATED:20210508T170911Z
UID:ATEvent-870f714f227e49b38a411444bb09fe7e
LAST-MODIFIED:20220128T191514Z
SUMMARY:Une nuit pour la Mission
DTSTART:20210510T183000Z
DTEND:20210510T183000Z
LOCATION:En ligne en direct
URL:https://lanuitpourlamission.org/
CLASS:PUBLIC
END:VEVENT
END:VCALENDAR
