BEGIN:VCALENDAR
PRODID:-//AT Content Types//AT Event//EN
VERSION:2.0
METHOD:PUBLISH
BEGIN:VEVENT
DTSTAMP:20260422T094509Z
CREATED:20210212T200020Z
UID:ATEvent-81f4be33b8184cb4819c169f93462451
LAST-MODIFIED:20220128T191512Z
SUMMARY:Soirée vidéo-débat "Nous habitons tous la même maison"
DTSTART:20210303T190000Z
DTEND:20210303T210000Z
DESCRIPTION:Proposée par le service de l'Écologie intégrale\, le CC
 FD Terre Solidaire et l'équipe "DEMAF"
LOCATION:En visio
CLASS:PUBLIC
END:VEVENT
END:VCALENDAR
