BEGIN:VCALENDAR
PRODID:-//AT Content Types//AT Event//EN
VERSION:1.0
BEGIN:VEVENT
DTSTART:20210117T230000Z
DTEND:20210124T230000Z
DCREATED:20201229T174812Z
UID:ATEvent-33acfd738d3d4e87bf86c2d87ccb89a1
SEQUENCE:0
LAST-MODIFIED:20220128T191516Z
SUMMARY:Semaine de prière pour l’unité des chrétiens 2021
PRIORITY:3
TRANSP:0
END:VEVENT
END:VCALENDAR
