BEGIN:VCALENDAR
PRODID:-//AT Content Types//AT Event//EN
VERSION:1.0
BEGIN:VEVENT
DTSTART:20210905T150000Z
DTEND:20210905T150000Z
DCREATED:20210703T083153Z
UID:ATEvent-670397cb023e4c41b48d288085d15bd7
SEQUENCE:0
LAST-MODIFIED:20220128T191515Z
SUMMARY:Scènes d’été aux Buis -5
LOCATION:La-Chapelle-des-Buis\, Besançon
PRIORITY:3
TRANSP:0
END:VEVENT
END:VCALENDAR
