BEGIN:VCALENDAR
PRODID:-//AT Content Types//AT Event//EN
VERSION:2.0
METHOD:PUBLISH
BEGIN:VEVENT
DTSTAMP:20260422T073637Z
CREATED:20210703T081838Z
UID:ATEvent-f3ffb590189a48e5a4de80e029406bf1
LAST-MODIFIED:20220128T191515Z
SUMMARY:Scènes d’été aux Buis -1
DTSTART:20210819T183000Z
DTEND:20210819T183000Z
LOCATION:La-Chapelle-des-Buis\, Besançon
CONTACT:Théâtre de la Clairière\, 06.60.63.47.91\, contact@theatre-clairiere.fr
URL:https://www.diocese-besancon.fr/documents-a-telecharger/scenes-d-ete-aux-buis-programme-tdlc.pdf
CLASS:PUBLIC
END:VEVENT
END:VCALENDAR
