BEGIN:VCALENDAR
PRODID:-//AT Content Types//AT Event//EN
VERSION:2.0
METHOD:PUBLISH
BEGIN:VEVENT
DTSTAMP:20260420T203202Z
CREATED:20210218T124446Z
UID:ATEvent-a6ffe1f43d064391b57c0829edbe648a
LAST-MODIFIED:20220128T191513Z
SUMMARY:Rencontre en ligne des catéchistes du diocèse
DTSTART:20210309T190000Z
DTEND:20210309T210000Z
LOCATION:En ligne
CONTACT:Service diocésain de la Catéchèse et du Catéchuménat\, 03.81.25.28.15\, sdcatechese@diocese-besancon.fr
URL:https://www.diocese-besancon.fr/diocese/doyennes-et-paroisses/d05-haut-doubs-forestier/actualites/rencontre-en-ligne-des-catechistes-du-diocese
CLASS:PUBLIC
END:VEVENT
END:VCALENDAR
