BEGIN:VCALENDAR
PRODID:-//AT Content Types//AT Event//EN
VERSION:2.0
METHOD:PUBLISH
BEGIN:VEVENT
DTSTAMP:20260420T133848Z
CREATED:20210306T102614Z
UID:ATEvent-93850e40662243318d3c40b94a9a4bfe
LAST-MODIFIED:20220128T191513Z
SUMMARY:Rencontre en ligne autour des dernières paroles du Christ en croix
DTSTART:20210311T193000Z
DTEND:20210311T203000Z
LOCATION:En ligne
URL:https://www.diocese-besancon.fr/diocese/doyennes-et-paroisses/d05-haut-doubs-forestier/en-pratique/nl/fp/rencontre-en-ligne-autour-des-dernieres-paroles-du-christ-en-croix
CLASS:PUBLIC
END:VEVENT
END:VCALENDAR
