BEGIN:VCALENDAR
PRODID:-//AT Content Types//AT Event//EN
VERSION:2.0
METHOD:PUBLISH
BEGIN:VEVENT
DTSTAMP:20260420T115542Z
CREATED:20210410T162052Z
UID:ATEvent-44f5176748304a63a6df882395c7bbec
LAST-MODIFIED:20220128T191513Z
SUMMARY:Rencontre de l’équipe de Doyenné
DTSTART:20210415T120000Z
DTEND:20210415T120000Z
CLASS:PUBLIC
END:VEVENT
END:VCALENDAR
