BEGIN:VCALENDAR
PRODID:-//AT Content Types//AT Event//EN
VERSION:2.0
METHOD:PUBLISH
BEGIN:VEVENT
DTSTAMP:20260421T222908Z
CREATED:20210116T223932Z
UID:ATEvent-8a0d9d5fe72a43f0a9d570e83da77bdb
LAST-MODIFIED:20220128T191516Z
SUMMARY:Prière œcuménique
DTSTART:20210120T153000Z
DTEND:20210120T153000Z
LOCATION:Temple mennonite\, 1 Place Albert Schweitzer à Pontarlier
URL:https://www.diocese-besancon.fr/diocese/doyennes-et-paroisses/d05-haut-doubs-forestier/zoom-sur/semaine-de-priere-pour-lunite-des-chretiens-2021
CLASS:PUBLIC
END:VEVENT
END:VCALENDAR
