BEGIN:VCALENDAR
PRODID:-//AT Content Types//AT Event//EN
VERSION:2.0
METHOD:PUBLISH
BEGIN:VEVENT
DTSTAMP:20260422T110907Z
CREATED:20210528T201851Z
UID:ATEvent-91b457de7ec546eca3de9adc05711998
LAST-MODIFIED:20220128T191514Z
SUMMARY:Prêts pour le Congrès Mission ?
DTSTART:20210610T180000Z
DTEND:20210610T180000Z
LOCATION:Centre Diocésain\, 20 rue Mégevand à Besançon
CLASS:PUBLIC
END:VEVENT
END:VCALENDAR
