BEGIN:VCALENDAR
PRODID:-//AT Content Types//AT Event//EN
VERSION:2.0
METHOD:PUBLISH
BEGIN:VEVENT
DTSTAMP:20260423T085724Z
CREATED:20210528T161341Z
UID:ATEvent-d3536cf628534353a9626f0eb7cd55fa
LAST-MODIFIED:20220128T191514Z
SUMMARY:Pèlerinage sur la route d'Assise
DTSTART:20210829T220000Z
DTEND:20210905T220000Z
CONTACT:Service diocésain des Pèlerinages\, 03 81 25 28 22\, direction-pelerinages@centrediocesain-besancon.fr
URL:https://www.diocese-besancon.fr/agir-participer/tu-veux-t-epanouir-te-former/service-interdiocesain-pelerinages
CLASS:PUBLIC
END:VEVENT
END:VCALENDAR
