BEGIN:VCALENDAR
PRODID:-//AT Content Types//AT Event//EN
VERSION:2.0
METHOD:PUBLISH
BEGIN:VEVENT
DTSTAMP:20260419T132747Z
CREATED:20210424T094409Z
UID:ATEvent-4b2d8e167b3e4108b11118d40ba0cff2
LAST-MODIFIED:20220128T191514Z
SUMMARY:Pèlerinage marche autour de Notre-Dame du Chêne
DTSTART:20210505T220000Z
DTEND:20210505T220000Z
LOCATION:Notre Dame du Chêne (25)
CONTACT:Service diocésain des Pèlerinages\, 03 81 25 28 22\, direction-pelerinages@centrediocesain-besancon.fr
URL:https://www.diocese-besancon.fr/agir-participer/tu-veux-t-epanouir-te-former/service-interdiocesain-pelerinages/menu1/pelerinages-marches-1/journee-marche-pelerinage-autour-de-notre-dame-du-chene-25
CLASS:PUBLIC
END:VEVENT
END:VCALENDAR
