BEGIN:VCALENDAR
PRODID:-//AT Content Types//AT Event//EN
VERSION:1.0
BEGIN:VEVENT
DTSTART:20210731T220000Z
DTEND:20210806T220000Z
DCREATED:20210424T083006Z
UID:ATEvent-99313c624f4c4012957a5ddd7ca5ab39
SEQUENCE:0
LAST-MODIFIED:20220128T191513Z
SUMMARY:Pèlerinage à LOURDES
LOCATION:Lourdes
PRIORITY:3
TRANSP:0
END:VEVENT
END:VCALENDAR
