BEGIN:VCALENDAR
PRODID:-//AT Content Types//AT Event//EN
VERSION:2.0
METHOD:PUBLISH
BEGIN:VEVENT
DTSTAMP:20260422T042203Z
CREATED:20210902T165349Z
UID:ATEvent-710e75ef538b4dccb0ad83dad8144ba4
LAST-MODIFIED:20220128T181300Z
SUMMARY:Pèlerinage en ligne "L'esprit d'Assise avec François & Claire"
DTSTART:20210930T220000Z
DTEND:20211003T220000Z
LOCATION:En ligne
CLASS:PUBLIC
END:VEVENT
END:VCALENDAR
