BEGIN:VCALENDAR
PRODID:-//AT Content Types//AT Event//EN
VERSION:2.0
METHOD:PUBLISH
BEGIN:VEVENT
DTSTAMP:20260422T035951Z
CREATED:20210709T083321Z
UID:ATEvent-7d2767d70eb34defa25f5b03c076153e
LAST-MODIFIED:20220128T191515Z
SUMMARY:Pèlerinage en ligne à Lourdes
DTSTART:20210811T220000Z
DTEND:20210811T220000Z
LOCATION:En ligne
URL:https://www.prionseneglise.fr/e-pelerinage-lourdes
CLASS:PUBLIC
END:VEVENT
END:VCALENDAR
