BEGIN:VCALENDAR
PRODID:-//AT Content Types//AT Event//EN
VERSION:2.0
METHOD:PUBLISH
BEGIN:VEVENT
DTSTAMP:20260420T170605Z
CREATED:20210305T183634Z
UID:ATEvent-47289b769c29414d8d42b8e1370ecf81
LAST-MODIFIED:20220128T191513Z
SUMMARY:Pèlerinage en Grèce "Sur les pas de Saint Paul"
DTSTART:20210929T220000Z
DTEND:20211006T220000Z
LOCATION:Grèce
CONTACT:Service diocésain des Pèlerinages\, 03 81 25 28 22 / 06 88 71 49 96\, pelerinages@centrediocesain-besancon.fr
URL:https://www.diocese-besancon.fr/diocese/doyennes-et-paroisses/d05-haut-doubs-forestier/actualites/pelerinage-en-grece-sur-les-pas-de-st-paul
CLASS:PUBLIC
END:VEVENT
END:VCALENDAR
