BEGIN:VCALENDAR
PRODID:-//AT Content Types//AT Event//EN
VERSION:1.0
BEGIN:VEVENT
DTSTART:20211001T130000Z
DTEND:20211003T130000Z
DCREATED:20210424T172355Z
UID:ATEvent-977c25358c6445ea85bdea393b12c359
SEQUENCE:0
LAST-MODIFIED:20220128T191514Z
SUMMARY:Pèlerinage à Paray-le-Monial : Ensemble\, allons à la source...
LOCATION:Paray-le-Monial
PRIORITY:3
TRANSP:0
END:VEVENT
END:VCALENDAR
