BEGIN:VCALENDAR
PRODID:-//AT Content Types//AT Event//EN
VERSION:2.0
METHOD:PUBLISH
BEGIN:VEVENT
DTSTAMP:20260422T105646Z
CREATED:20210528T111519Z
UID:ATEvent-f8a9728a45414a1b90e91fa619b2e29a
LAST-MODIFIED:20220128T191514Z
SUMMARY:Pèlerinage à La Salette
DTSTART:20210706T220000Z
DTEND:20210709T220000Z
LOCATION:Notre-Dame de La Salette
CONTACT:Service diocésain des Pèlerinages\, 03 81 25 28 22\, direction-pelerinages@centrediocesain-besancon.fr
URL:https://www.diocese-besancon.fr/agir-participer/tu-veux-t-epanouir-te-former/service-interdiocesain-pelerinages
CLASS:PUBLIC
END:VEVENT
END:VCALENDAR
