BEGIN:VCALENDAR
PRODID:-//AT Content Types//AT Event//EN
VERSION:2.0
METHOD:PUBLISH
BEGIN:VEVENT
DTSTAMP:20260422T162615Z
CREATED:20210521T170811Z
UID:ATEvent-6457878771254284b80933bea14eec3b
LAST-MODIFIED:20220128T191514Z
SUMMARY:Pèlerinage à Faverney
DTSTART:20210524T070000Z
DTEND:20210524T070000Z
LOCATION:Eglise de Faverney
CONTACT:Paroisse de Faverney-Amance\, 03.84.91.45.07\, upfaverney-amance@orange.fr
CLASS:PUBLIC
END:VEVENT
END:VCALENDAR
