BEGIN:VCALENDAR
PRODID:-//AT Content Types//AT Event//EN
VERSION:2.0
METHOD:PUBLISH
BEGIN:VEVENT
DTSTAMP:20260422T112610Z
CREATED:20210529T161307Z
UID:ATEvent-7849e95ed3114ac786721070f669f6c0
LAST-MODIFIED:20220128T191514Z
SUMMARY:Pèlerinage 2021 du Rosaire à Lourdes
DTSTART:20211004T220000Z
DTEND:20211009T220000Z
LOCATION:Lourdes
CONTACT:Association du Rosaire - 18 rue Mégevand - Besançon\, 03 81 25 28 07\, contact@rosairebfc.fr
URL:https://www.rosairebfc.fr/
CLASS:PUBLIC
END:VEVENT
END:VCALENDAR
