BEGIN:VCALENDAR
PRODID:-//AT Content Types//AT Event//EN
VERSION:2.0
METHOD:PUBLISH
BEGIN:VEVENT
DTSTAMP:20260422T041221Z
CREATED:20210611T155159Z
UID:ATEvent-71713f8d721c47e29e1fbd3fc5ec13ba
LAST-MODIFIED:20220128T191515Z
SUMMARY:Ouverture de Pièces d’été\, exposition d’art contemporain en plein air
DTSTART:20210612T123000Z
DTEND:20210613T110000Z
LOCATION:dans le paysage de Malbuisson
CONTACT:Association MALBUISSONART\, organisation@malbuissonart.com
URL:https://malbuisson.art/pieces-dete
CLASS:PUBLIC
END:VEVENT
END:VCALENDAR
