BEGIN:VCALENDAR
PRODID:-//AT Content Types//AT Event//EN
VERSION:1.0
BEGIN:VEVENT
DTSTART:20210624T220000Z
DTEND:20210625T220000Z
DCREATED:20210612T142318Z
UID:ATEvent-0f088dfbc8e04820849a1ee0e04f8525
SEQUENCE:0
LAST-MODIFIED:20220128T191515Z
SUMMARY:Nuit des veilleurs 2021
DESCRIPTION:Dans la nuit du 25 au 26 juin\, ensemble\, portons la flam
 me de l'espérance en soutenant les victimes de la torture !
PRIORITY:3
TRANSP:0
END:VEVENT
END:VCALENDAR
