BEGIN:VCALENDAR
PRODID:-//AT Content Types//AT Event//EN
VERSION:2.0
METHOD:PUBLISH
BEGIN:VEVENT
DTSTAMP:20260421T213131Z
CREATED:20210602T161938Z
UID:ATEvent-b7728134692443dc8fb103ecf322523e
LAST-MODIFIED:20220128T191515Z
SUMMARY:Nuit des églises
DTSTART:20210625T163000Z
DTEND:20210625T173000Z
LOCATION:Église Saint-Bénigne de Pontarlier
URL:https://www.diocese-besancon.fr/diocese/doyennes-et-paroisses/d05-haut-doubs-forestier/actualites/la-nuit-des-eglises-2021/
CLASS:PUBLIC
END:VEVENT
END:VCALENDAR
