BEGIN:VCALENDAR
PRODID:-//AT Content Types//AT Event//EN
VERSION:1.0
BEGIN:VEVENT
DTSTART:20210801T220000Z
DTEND:20210808T220000Z
DCREATED:20210712T165240Z
UID:ATEvent-047d63196084495db5ac395cb07cda4c
SEQUENCE:0
LAST-MODIFIED:20220128T191515Z
SUMMARY:Musique aux 4 Horizons
LOCATION:Colline Notre-Dame du Haut à Ronchamp (ou autre lieu indiqué)
PRIORITY:3
TRANSP:0
END:VEVENT
END:VCALENDAR
