BEGIN:VCALENDAR
PRODID:-//AT Content Types//AT Event//EN
VERSION:2.0
METHOD:PUBLISH
BEGIN:VEVENT
DTSTAMP:20260421T223036Z
CREATED:20210718T205904Z
UID:ATEvent-7952404d10734218af5492997abced00
LAST-MODIFIED:20220128T191516Z
SUMMARY:Marche spirituelle
DTSTART:20210725T070000Z
DTEND:20210725T070000Z
LOCATION:Arc sous Cicon\, chapelle Notre-Dame de Vau-Navier
CONTACT:Jacqueline DESCOURVIERES\, 06 56 88 59 05
CLASS:PUBLIC
END:VEVENT
END:VCALENDAR
