BEGIN:VCALENDAR
PRODID:-//AT Content Types//AT Event//EN
VERSION:1.0
BEGIN:VEVENT
DTSTART:20210930T073000Z
DTEND:20210930T143000Z
DCREATED:20210923T165810Z
UID:ATEvent-b58a66f78e0f4319bbe3c17a0550cfcb
SEQUENCE:0
LAST-MODIFIED:20220128T181300Z
SUMMARY:La nouvelle traduction du Missel romain
DESCRIPTION:Pour les prêtres en activités et les diacres
LOCATION:Foyer Sainte-Anne\, à Montferrand-le-Château (25)
PRIORITY:3
TRANSP:0
END:VEVENT
END:VCALENDAR
