BEGIN:VCALENDAR
PRODID:-//AT Content Types//AT Event//EN
VERSION:2.0
METHOD:PUBLISH
BEGIN:VEVENT
DTSTAMP:20260422T094609Z
CREATED:20210612T152658Z
UID:ATEvent-46a5e30972f54685a336f893aed737d3
LAST-MODIFIED:20220128T191515Z
SUMMARY:♦ Jubilé du P. Pierre Mesny et de l'abbé Jean-Claude Menoud
DTSTART:20210704T083000Z
DTEND:20210704T083000Z
LOCATION:Eglise de Mouthe
URL:https://www.diocese-besancon.fr/diocese/doyennes-et-paroisses/d05-haut-doubs-forestier/nos-paroisses/mouthe-lac-mont-d-or/
CLASS:PUBLIC
END:VEVENT
END:VCALENDAR
