BEGIN:VCALENDAR
PRODID:-//AT Content Types//AT Event//EN
VERSION:2.0
METHOD:PUBLISH
BEGIN:VEVENT
DTSTAMP:20260422T195705Z
CREATED:20210410T114041Z
UID:ATEvent-0e1b2a8b20cd49dc83bbb1200649a913
LAST-MODIFIED:20220128T191513Z
SUMMARY:Matinée « Terres d’Espérance »
DTSTART:20210424T074500Z
DTEND:20210424T100000Z
LOCATION:Visioconférence
CLASS:PUBLIC
END:VEVENT
END:VCALENDAR
