BEGIN:VCALENDAR
PRODID:-//AT Content Types//AT Event//EN
VERSION:1.0
BEGIN:VEVENT
DTSTART:20210424T073000Z
DTEND:20210424T073000Z
DCREATED:20210410T120525Z
UID:ATEvent-d1d7db8ba21b4c39a07053e60d241df2
SEQUENCE:0
LAST-MODIFIED:20220128T191513Z
SUMMARY:Journée diocésaine pour les confirmands
DESCRIPTION:Le Service diocésain de la Catéchèse et du Catéchumén
 at invite les confirmands à une journée sur le thème « l’unité 
 des trois sacrements de l’initiation chrétienne » en présence de 
 Monseigneur Bouilleret.
LOCATION:Foyer Sainte Anne - Montferrand le château
PRIORITY:3
TRANSP:0
END:VEVENT
END:VCALENDAR
