BEGIN:VCALENDAR
PRODID:-//AT Content Types//AT Event//EN
VERSION:2.0
METHOD:PUBLISH
BEGIN:VEVENT
DTSTAMP:20260422T110231Z
CREATED:20210124T103411Z
UID:ATEvent-c5b931cb2d4d480290cceaeec089e991
LAST-MODIFIED:20220128T191516Z
SUMMARY:Initiation à l'ennéagramme
DTSTART:20210227T083000Z
DTEND:20210228T150000Z
LOCATION:Foyer Ste Anne à Montferrand-le-Château (25)
CONTACT:Service diocésain de Formation\, 03 81 25 28 27 (laisser un message sur le répondeur en cas d'absence)\, formation.besancon@icloud.com
CLASS:PUBLIC
END:VEVENT
END:VCALENDAR
