BEGIN:VCALENDAR
PRODID:-//AT Content Types//AT Event//EN
VERSION:1.0
BEGIN:VEVENT
DTSTART:20211005T180000Z
DTEND:20211005T180000Z
DCREATED:20210911T131846Z
UID:ATEvent-267a2f3d31574993b4da09b6eb5b7c5d
SEQUENCE:0
LAST-MODIFIED:20220128T181300Z
SUMMARY:Formation "Je démarre en catéchèse"
DESCRIPTION:Pour les personnes appelées à être catéchiste auprès 
 des enfants de la paroisse.
LOCATION:Formation en visioconférence
PRIORITY:3
TRANSP:0
END:VEVENT
END:VCALENDAR
