BEGIN:VCALENDAR
PRODID:-//AT Content Types//AT Event//EN
VERSION:1.0
BEGIN:VEVENT
DTSTART:20210327T083000Z
DTEND:20210327T153000Z
DCREATED:20210320T213315Z
UID:ATEvent-2f805a3c21b34f6d8010ac8080c883f8
SEQUENCE:0
LAST-MODIFIED:20220128T191513Z
SUMMARY:Formation des webmestres du diocèse
LOCATION:Centre diocésain - 20 rue Mégevand - Besançon
PRIORITY:3
TRANSP:0
END:VEVENT
END:VCALENDAR
