BEGIN:VCALENDAR
PRODID:-//AT Content Types//AT Event//EN
VERSION:1.0
BEGIN:VEVENT
DTSTART:20210408T180000Z
DTEND:20210408T200000Z
DCREATED:20210317T175707Z
UID:ATEvent-4ddb392b55bd4142b514df86e04a018f
SEQUENCE:0
LAST-MODIFIED:20220128T191513Z
SUMMARY:Formation catéchistes 8-11 ans : module "Dieu appelle et envoie"
LOCATION:Visioconférence sur ZOOM
PRIORITY:3
TRANSP:0
END:VEVENT
END:VCALENDAR
