BEGIN:VCALENDAR
PRODID:-//AT Content Types//AT Event//EN
VERSION:2.0
METHOD:PUBLISH
BEGIN:VEVENT
DTSTAMP:20260421T181504Z
CREATED:20210424T081207Z
UID:ATEvent-6691adadf94342baaddf23b39c096d3a
LAST-MODIFIED:20220128T191513Z
SUMMARY:Formation à l'écoute A avec le CLER
DTSTART:20210528T113000Z
DTEND:20210529T150000Z
LOCATION:Foyer Sainte-Anne\, à Montferrand-le-Château (25)
CONTACT:Service diocésain de Formation\, 03 81 25 28 27 (laisser un message sur le répondeur en cas d'absence)\, formation.besancon@icloud.com
URL:https://www.diocese-besancon.fr/agir-participer/tu-veux-t-epanouir-te-former/service-diocesain-formation/zoom-sur/cler-a-2021
CLASS:PUBLIC
END:VEVENT
END:VCALENDAR
