BEGIN:VCALENDAR
PRODID:-//AT Content Types//AT Event//EN
VERSION:1.0
BEGIN:VEVENT
DTSTART:20210906T220000Z
DTEND:20210906T220000Z
DCREATED:20210904T091833Z
UID:ATEvent-01fe8fd825e1494fb784d7cc3e77ecc7
SEQUENCE:0
LAST-MODIFIED:20220128T191516Z
SUMMARY:Fête de Rosh Hashana
PRIORITY:3
TRANSP:0
END:VEVENT
END:VCALENDAR
