BEGIN:VCALENDAR
PRODID:-//AT Content Types//AT Event//EN
VERSION:1.0
BEGIN:VEVENT
DTSTART:20210901T070000Z
DTEND:20210920T160000Z
DCREATED:20210904T082856Z
UID:ATEvent-6ed2bfd064d6408ab4467636ad246151
SEQUENCE:0
LAST-MODIFIED:20220128T191516Z
SUMMARY:Exposition "Micro-entrepreneurs du monde\, leur donner une chance !"
LOCATION:Centre Diocésain\, Salle des pas perdus 20 rue Mégevand à Besançon
PRIORITY:3
TRANSP:0
END:VEVENT
END:VCALENDAR
