BEGIN:VCALENDAR
PRODID:-//AT Content Types//AT Event//EN
VERSION:1.0
BEGIN:VEVENT
DTSTART:20210930T220000Z
DTEND:20210930T220000Z
DCREATED:20210923T161931Z
UID:ATEvent-77b5cb2a85ab4d4cab825a98ff7ce679
SEQUENCE:0
LAST-MODIFIED:20220128T181300Z
SUMMARY:Exposition : Les miracles eucharistiques dans le monde
LOCATION:Centre Diocésain\, 20 rue Mégevand à Besançon
PRIORITY:3
TRANSP:0
END:VEVENT
END:VCALENDAR
