BEGIN:VCALENDAR
PRODID:-//AT Content Types//AT Event//EN
VERSION:1.0
BEGIN:VEVENT
DTSTART:20210520T130000Z
DTEND:20210603T160000Z
DCREATED:20210522T113210Z
UID:ATEvent-0f103f064a1a4b0185baf64f965b303b
SEQUENCE:0
LAST-MODIFIED:20220128T191514Z
SUMMARY:Exposition "La Grande aventure des chrétiens d'Orient"
LOCATION:Espace Lucien Ledeur - Centre Diocésain - 20 rue Mégevand - Besançon
PRIORITY:3
TRANSP:0
END:VEVENT
END:VCALENDAR
