BEGIN:VCALENDAR
PRODID:-//AT Content Types//AT Event//EN
VERSION:2.0
METHOD:PUBLISH
BEGIN:VEVENT
DTSTAMP:20260421T223320Z
CREATED:20210612T172753Z
UID:ATEvent-e36247da8c72469fbe57b470e8b3062f
LAST-MODIFIED:20220128T191515Z
SUMMARY:Exposition "La grande aventure des Chrétiens d'Orient "
DTSTART:20210613T220000Z
DTEND:20210714T220000Z
LOCATION:Basilique Saint Ferjeux - 24 rue de la Basilique - Besançon
CONTACT:Denise CHAUDEY\, dede4@laposte.net
CLASS:PUBLIC
END:VEVENT
END:VCALENDAR
