BEGIN:VCALENDAR
PRODID:-//AT Content Types//AT Event//EN
VERSION:1.0
BEGIN:VEVENT
DTSTART:20210815T160000Z
DTEND:20210821T120000Z
DCREATED:20210626T111558Z
UID:ATEvent-cb42618cfe424f68a2514b43212dbd95
SEQUENCE:0
LAST-MODIFIED:20220128T191515Z
SUMMARY:Exercices Spirituels de St Ignace
LOCATION:Foyer Sainte-Anne\, à Montferrand-le-Château (25)
PRIORITY:3
TRANSP:0
END:VEVENT
END:VCALENDAR
