BEGIN:VCALENDAR
PRODID:-//AT Content Types//AT Event//EN
VERSION:2.0
METHOD:PUBLISH
BEGIN:VEVENT
DTSTAMP:20260423T123151Z
CREATED:20210604T154056Z
UID:ATEvent-67993d15f00b4a5ab3aed08d18c52a17
LAST-MODIFIED:20220128T191515Z
SUMMARY:Dédicace à la librairie diocésaine
DTSTART:20210611T150000Z
DTEND:20210611T150000Z
DESCRIPTION:Le P. Christophe Bazin dédicace son livre "Curé de campa
 gne" à la librairie Passage 18\, au Centre diocésain à Besançon.
LOCATION:Librairie Passage 18\, au Centre Diocésain\, 18 rue Mégevand à Besançon
CONTACT:Passage 18 Librairie Espace Grammont\, 03 81 25 28 25\, librairie@centrediocesain-besancon.fr
URL:https://www.diocese-besancon.fr/minformer/actualites-reportages/cure-de-campagne
CLASS:PUBLIC
END:VEVENT
END:VCALENDAR
