BEGIN:VCALENDAR
PRODID:-//AT Content Types//AT Event//EN
VERSION:1.0
BEGIN:VEVENT
DTSTART:20210307T131500Z
DTEND:20210307T144500Z
DCREATED:20210227T180217Z
UID:ATEvent-398509c23b5e45a0a9f8b4e79c9e1fbf
SEQUENCE:0
LAST-MODIFIED:20220128T191513Z
SUMMARY:En route vers le Congrès Mission
LOCATION:Cathédrale Saint-Jean à Besançon
PRIORITY:3
TRANSP:0
END:VEVENT
END:VCALENDAR
